BEGIN:VCALENDAR
VERSION:2.0
PRODID:http://veranstaltungen.uni-halle.de//veranstaltungen.html?id=24435
METHOD:PUBLISH
BEGIN:VEVENT
UID:veranstaltungen@uni-halle.de
ORGANIZER;CN="":MAILTO:
SUMMARY:Nachhaltigkeit im Labor
DESCRIPTION:
LOCATION:Kurt-Mothes-Str. 3a\, 06120 Halle (Saale)
CLASS:PUBLIC
DTSTART:20250909T100000Z
DTEND:20250909T120000Z
DTSTAMP:20260424T021014Z
END:VEVENT
END:VCALENDAR
